BEGIN:VCALENDAR
VERSION:2.0
CALSCALE:GREGORIAN
PRODID:-//Diputació de Barcelona//DibaCMS//EN
BEGIN:VEVENT
UID:6513
DTSTAMP:20260425T022643
DTSTART:20120615T223000
DTEND:20120615T000000
SUMMARY:Cireres 2012. Restaurant Na Madrona i concert de guitarra clàsica: Rafel Sala
LOCATION:
METHOD:PUBLISH
X-WR-CALNAME:caldesm@caldesdemontbui.cat
X-WR-TIMEZONE:Europe/Madrid
DESCRIPTION:
URI:https://www.caldesdemontbui.cat/actualitat/agenda/cireres-2012-restaurant-na-madrona-i-concert-de-guitarra-clasica-rafel-sala.html
CLASS:PUBLIC
END:VEVENT
END:VCALENDAR
