BEGIN:VCALENDAR
VERSION:2.0
CALSCALE:GREGORIAN
PRODID:-//Diputació de Barcelona//DibaCMS//EN
BEGIN:VEVENT
UID:6512
DTSTAMP:20260424T083654
DTSTART:20120615T200000
DTEND:20120615T000000
SUMMARY:Presentació del llibre "Sense Espanya", de Modest Guinjoan i Francesc Xavier Cuadras
LOCATION:
METHOD:PUBLISH
X-WR-CALNAME:caldesm@caldesdemontbui.cat
X-WR-TIMEZONE:Europe/Madrid
DESCRIPTION:
URI:https://www.caldesdemontbui.cat/actualitat/agenda/presentacio-del-llibre-sense-espanya-de-modest-guinjoan-i-francesc-xavier-cuadras.html
CLASS:PUBLIC
END:VEVENT
END:VCALENDAR
