BEGIN:VCALENDAR
VERSION:2.0
CALSCALE:GREGORIAN
PRODID:-//Diputació de Barcelona//DibaCMS//EN
BEGIN:VEVENT
UID:6511
DTSTAMP:20260425T050030
DTSTART:20120615T193000
DTEND:20120615T000000
SUMMARY:Cinefòrum: La classe, de Laurent Cantet
LOCATION:
METHOD:PUBLISH
X-WR-CALNAME:caldesm@caldesdemontbui.cat
X-WR-TIMEZONE:Europe/Madrid
DESCRIPTION:
URI:https://www.caldesdemontbui.cat/actualitat/agenda/cineforum-la-classe-de-laurent-cantet.html
CLASS:PUBLIC
END:VEVENT
END:VCALENDAR
