BEGIN:VCALENDAR
VERSION:2.0
CALSCALE:GREGORIAN
PRODID:-//Diputació de Barcelona//DibaCMS//EN
BEGIN:VEVENT
UID:6509
DTSTAMP:20260424T064738
DTSTART:20120614T210000
DTEND:20120614T000000
SUMMARY:Xerrada: "Acompanyar infants i famílies en el canvi. Per una bona acollida a l'escola" a càrrec de Roda Vidiella
LOCATION:
METHOD:PUBLISH
X-WR-CALNAME:caldesm@caldesdemontbui.cat
X-WR-TIMEZONE:Europe/Madrid
DESCRIPTION:
URI:https://www.caldesdemontbui.cat/actualitat/agenda/xerrada-acompanyar-infants-i-families-en-el-canvi-per-una-bona-acollida-a-lescola-a-carrec-de-roda-vidiella.html
CLASS:PUBLIC
END:VEVENT
END:VCALENDAR
