BEGIN:VCALENDAR
VERSION:2.0
CALSCALE:GREGORIAN
PRODID:-//Diputació de Barcelona//DibaCMS//EN
BEGIN:VEVENT
UID:6508
DTSTAMP:20260424T045734
DTSTART:20120614T193000
DTEND:20120614T000000
SUMMARY:Viatgeteca: Projecció de l'audiovisual: Seguint la petjada dels càtars, camí dels bons homes, amb Tomàs Mas i Manel Figuera.
LOCATION:
METHOD:PUBLISH
X-WR-CALNAME:caldesm@caldesdemontbui.cat
X-WR-TIMEZONE:Europe/Madrid
DESCRIPTION:
URI:https://www.caldesdemontbui.cat/actualitat/agenda/viatgeteca-projeccio-de-laudiovisual-seguint-la-petjada-dels-catars-cami-dels-bons-homes-amb-tomas-mas-i-manel-figuera.html
CLASS:PUBLIC
END:VEVENT
END:VCALENDAR
