BEGIN:VCALENDAR
VERSION:2.0
CALSCALE:GREGORIAN
PRODID:-//Diputació de Barcelona//DibaCMS//EN
BEGIN:VEVENT
UID:6507
DTSTAMP:20260424T014412
DTSTART:20120613T160000
DTEND:20120613T000000
SUMMARY:Xerrada: La gestió emocional
LOCATION:
METHOD:PUBLISH
X-WR-CALNAME:caldesm@caldesdemontbui.cat
X-WR-TIMEZONE:Europe/Madrid
DESCRIPTION:
URI:https://www.caldesdemontbui.cat/actualitat/agenda/xerrada-la-gestio-emocional.html
CLASS:PUBLIC
END:VEVENT
END:VCALENDAR
