BEGIN:VCALENDAR
VERSION:2.0
CALSCALE:GREGORIAN
PRODID:-//Diputació de Barcelona//DibaCMS//EN
BEGIN:VEVENT
UID:6504
DTSTAMP:20260424T032807
DTSTART:20120611T000000
DTEND:20120611T000000
SUMMARY:Exposició de gravats de Cristina Massana. Juny i juliol
LOCATION:
METHOD:PUBLISH
X-WR-CALNAME:caldesm@caldesdemontbui.cat
X-WR-TIMEZONE:Europe/Madrid
DESCRIPTION:
URI:https://www.caldesdemontbui.cat/actualitat/agenda/exposicio-de-gravats-de-cristina-massana-juny-i-juliol.html
CLASS:PUBLIC
END:VEVENT
END:VCALENDAR
