BEGIN:VCALENDAR
VERSION:2.0
CALSCALE:GREGORIAN
PRODID:-//Diputació de Barcelona//DibaCMS//EN
BEGIN:VEVENT
UID:6502
DTSTAMP:20260424T062519
DTSTART:20120610T100000
DTEND:20120610T000000
SUMMARY:Torneig de futbol sala adreçat a infants "Rosario Sánchez"
LOCATION:
METHOD:PUBLISH
X-WR-CALNAME:caldesm@caldesdemontbui.cat
X-WR-TIMEZONE:Europe/Madrid
DESCRIPTION:
URI:https://www.caldesdemontbui.cat/actualitat/agenda/torneig-de-futbol-sala-adrecat-a-infants-rosario-sanchez.html
CLASS:PUBLIC
END:VEVENT
END:VCALENDAR
