BEGIN:VCALENDAR
VERSION:2.0
CALSCALE:GREGORIAN
PRODID:-//Diputació de Barcelona//DibaCMS//EN
BEGIN:VEVENT
UID:6497
DTSTAMP:20260424T045625
DTSTART:20120606T153000
DTEND:20120606T000000
SUMMARY:Xerrada participativa de Consum "Els subministraments a la llar". Adreçada a la gent gran
LOCATION:
METHOD:PUBLISH
X-WR-CALNAME:caldesm@caldesdemontbui.cat
X-WR-TIMEZONE:Europe/Madrid
DESCRIPTION:
URI:https://www.caldesdemontbui.cat/actualitat/agenda/xerrada-participativa-de-consum-els-subministraments-a-la-llar-adrecada-a-la-gent-gran.html
CLASS:PUBLIC
END:VEVENT
END:VCALENDAR
