BEGIN:VCALENDAR
VERSION:2.0
CALSCALE:GREGORIAN
PRODID:-//Diputació de Barcelona//DibaCMS//EN
BEGIN:VEVENT
UID:6495
DTSTAMP:20260424T045659
DTSTART:20120605T183000
DTEND:20120605T000000
SUMMARY:Xerrada sobre la reforma laboral 2012. Totes les claus del Reial Decret Llei 3/2012
LOCATION:
METHOD:PUBLISH
X-WR-CALNAME:caldesm@caldesdemontbui.cat
X-WR-TIMEZONE:Europe/Madrid
DESCRIPTION:
URI:https://www.caldesdemontbui.cat/actualitat/agenda/xerrada-sobre-la-reforma-laboral-2012-totes-les-claus-del-reial-decret-llei-32012.html
CLASS:PUBLIC
END:VEVENT
END:VCALENDAR
