BEGIN:VCALENDAR
VERSION:2.0
CALSCALE:GREGORIAN
PRODID:-//Diputació de Barcelona//DibaCMS//EN
BEGIN:VEVENT
UID:6494
DTSTAMP:20260424T020613
DTSTART:20120604T193000
DTEND:20120604T000000
SUMMARY:Del 4 al 19 de juny, a la Biblioteca de Caldes: Exposició "l'Àfrica decideix"
LOCATION:
METHOD:PUBLISH
X-WR-CALNAME:caldesm@caldesdemontbui.cat
X-WR-TIMEZONE:Europe/Madrid
DESCRIPTION:
URI:https://www.caldesdemontbui.cat/actualitat/agenda/del-4-al-19-de-juny-a-la-biblioteca-de-caldes-exposicio-lafrica-decideix.html
CLASS:PUBLIC
END:VEVENT
END:VCALENDAR
