BEGIN:VCALENDAR
VERSION:2.0
CALSCALE:GREGORIAN
PRODID:-//Diputació de Barcelona//DibaCMS//EN
BEGIN:VEVENT
UID:6493
DTSTAMP:20260425T130737
DTSTART:20120604T160000
DTEND:20120604T000000
SUMMARY:Xerrada "L'alimentació de la dona en la maduresa"
LOCATION:
METHOD:PUBLISH
X-WR-CALNAME:caldesm@caldesdemontbui.cat
X-WR-TIMEZONE:Europe/Madrid
DESCRIPTION:
URI:https://www.caldesdemontbui.cat/actualitat/agenda/xerrada-lalimentacio-de-la-dona-en-la-maduresa.html
CLASS:PUBLIC
END:VEVENT
END:VCALENDAR
