BEGIN:VCALENDAR
VERSION:2.0
CALSCALE:GREGORIAN
PRODID:-//Diputació de Barcelona//DibaCMS//EN
BEGIN:VEVENT
UID:6492
DTSTAMP:20260425T040453
DTSTART:20120603T100000
DTEND:20120603T000000
SUMMARY:Fira del Trastos i Tresors
LOCATION:
METHOD:PUBLISH
X-WR-CALNAME:caldesm@caldesdemontbui.cat
X-WR-TIMEZONE:Europe/Madrid
DESCRIPTION:
URI:https://www.caldesdemontbui.cat/actualitat/agenda/fira-del-trastos-i-tresors.html
CLASS:PUBLIC
END:VEVENT
END:VCALENDAR
