BEGIN:VCALENDAR
VERSION:2.0
CALSCALE:GREGORIAN
PRODID:-//Diputació de Barcelona//DibaCMS//EN
BEGIN:VEVENT
UID:6490
DTSTAMP:20260424T052858
DTSTART:20120603T000000
DTEND:20120603T000000
SUMMARY:Excursió i visita a Montblanc
LOCATION:
METHOD:PUBLISH
X-WR-CALNAME:caldesm@caldesdemontbui.cat
X-WR-TIMEZONE:Europe/Madrid
DESCRIPTION:
URI:https://www.caldesdemontbui.cat/actualitat/agenda/excursio-i-visita-a-montblanc.html
CLASS:PUBLIC
END:VEVENT
END:VCALENDAR
