BEGIN:VCALENDAR
VERSION:2.0
CALSCALE:GREGORIAN
PRODID:-//Diputació de Barcelona//DibaCMS//EN
BEGIN:VEVENT
UID:6489
DTSTAMP:20260424T020338
DTSTART:20120602T220000
DTEND:20120602T000000
SUMMARY:Cireres 2012. Restaurant Balneari Broquetas i concert de l'Aula de Guitarra
LOCATION:
METHOD:PUBLISH
X-WR-CALNAME:caldesm@caldesdemontbui.cat
X-WR-TIMEZONE:Europe/Madrid
DESCRIPTION:
URI:https://www.caldesdemontbui.cat/actualitat/agenda/cireres-2012-restaurant-balneari-broquetas-i-concert-de-laula-de-guitarra.html
CLASS:PUBLIC
END:VEVENT
END:VCALENDAR
