BEGIN:VCALENDAR
VERSION:2.0
CALSCALE:GREGORIAN
PRODID:-//Diputació de Barcelona//DibaCMS//EN
BEGIN:VEVENT
UID:6488
DTSTAMP:20260424T234028
DTSTART:20120602T200000
DTEND:20120602T000000
SUMMARY:Exposició de ceràmica de Maria Romaní a la Sala Delger. Del 2 al 17 de juny
LOCATION:
METHOD:PUBLISH
X-WR-CALNAME:caldesm@caldesdemontbui.cat
X-WR-TIMEZONE:Europe/Madrid
DESCRIPTION:
URI:https://www.caldesdemontbui.cat/actualitat/agenda/exposicio-de-ceramica-de-maria-romani-a-la-sala-delger-del-2-al-17-de-juny.html
CLASS:PUBLIC
END:VEVENT
END:VCALENDAR
