BEGIN:VCALENDAR
VERSION:2.0
CALSCALE:GREGORIAN
PRODID:-//Diputació de Barcelona//DibaCMS//EN
BEGIN:VEVENT
UID:6486
DTSTAMP:20260425T050055
DTSTART:20120601T193000
DTEND:20120601T000000
SUMMARY:Cinefòrum: "Ser i tenir", de Nicolas Philibert
LOCATION:
METHOD:PUBLISH
X-WR-CALNAME:caldesm@caldesdemontbui.cat
X-WR-TIMEZONE:Europe/Madrid
DESCRIPTION:
URI:https://www.caldesdemontbui.cat/actualitat/agenda/cineforum-ser-i-tenir-de-nicolas-philibert.html
CLASS:PUBLIC
END:VEVENT
END:VCALENDAR
