BEGIN:VCALENDAR
VERSION:2.0
CALSCALE:GREGORIAN
PRODID:-//Diputació de Barcelona//DibaCMS//EN
BEGIN:VEVENT
UID:6484
DTSTAMP:20260424T034446
DTSTART:20120531T190000
DTEND:20120531T000000
SUMMARY:Del 31 de maig i fins el 18 de juny els alumnes més petits del Taller d'Art Municipal exposen els seus treballs
LOCATION:
METHOD:PUBLISH
X-WR-CALNAME:caldesm@caldesdemontbui.cat
X-WR-TIMEZONE:Europe/Madrid
DESCRIPTION:
URI:https://www.caldesdemontbui.cat/actualitat/agenda/del-31-de-maig-i-fins-el-18-de-juny-els-alumnes-mes-petits-del-taller-dart-municipal-exposen-els-seus-treballs.html
CLASS:PUBLIC
END:VEVENT
END:VCALENDAR
