BEGIN:VCALENDAR
VERSION:2.0
CALSCALE:GREGORIAN
PRODID:-//Diputació de Barcelona//DibaCMS//EN
BEGIN:VEVENT
UID:6482
DTSTAMP:20260424T150529
DTSTART:20120530T080000
DTEND:20120530T000000
SUMMARY:Sortida a Santa Eugènia de Berga i visita al "Món màgic del tren"
LOCATION:
METHOD:PUBLISH
X-WR-CALNAME:caldesm@caldesdemontbui.cat
X-WR-TIMEZONE:Europe/Madrid
DESCRIPTION:
URI:https://www.caldesdemontbui.cat/actualitat/agenda/sortida-a-santa-eugenia-de-berga-i-visita-al-mon-magic-del-tren.html
CLASS:PUBLIC
END:VEVENT
END:VCALENDAR
