BEGIN:VCALENDAR
VERSION:2.0
CALSCALE:GREGORIAN
PRODID:-//Diputació de Barcelona//DibaCMS//EN
BEGIN:VEVENT
UID:6481
DTSTAMP:20260424T131449
DTSTART:20120530T080000
DTEND:20120530T000000
SUMMARY:Visita al "Màgic món del tren", a Santa Eugènia de Berga
LOCATION:
METHOD:PUBLISH
X-WR-CALNAME:caldesm@caldesdemontbui.cat
X-WR-TIMEZONE:Europe/Madrid
DESCRIPTION:
URI:https://www.caldesdemontbui.cat/actualitat/agenda/visita-al-magic-mon-del-tren-a-santa-eugenia-de-berga.html
CLASS:PUBLIC
END:VEVENT
END:VCALENDAR
