BEGIN:VCALENDAR
VERSION:2.0
CALSCALE:GREGORIAN
PRODID:-//Diputació de Barcelona//DibaCMS//EN
BEGIN:VEVENT
UID:6480
DTSTAMP:20260424T133105
DTSTART:20120528T190000
DTEND:20120528T000000
SUMMARY:Club de lectura a la Biblioteca de Caldes. Xerrada sobre l'obra l'Home de la Maleta, de Ramon Solsona
LOCATION:
METHOD:PUBLISH
X-WR-CALNAME:caldesm@caldesdemontbui.cat
X-WR-TIMEZONE:Europe/Madrid
DESCRIPTION:
URI:https://www.caldesdemontbui.cat/actualitat/agenda/club-de-lectura-a-la-biblioteca-de-caldes-xerrada-sobre-lobra-lhome-de-la-maleta-de-ramon-solsona.html
CLASS:PUBLIC
END:VEVENT
END:VCALENDAR
