BEGIN:VCALENDAR
VERSION:2.0
CALSCALE:GREGORIAN
PRODID:-//Diputació de Barcelona//DibaCMS//EN
BEGIN:VEVENT
UID:6479
DTSTAMP:20260424T134011
DTSTART:20120527T183000
DTEND:20120527T000000
SUMMARY:Inauguració de l'exposició "Catalunya acaba aquí. Aquí empieza Murcia" (del 27 de maig al 17 de juny)
LOCATION:
METHOD:PUBLISH
X-WR-CALNAME:caldesm@caldesdemontbui.cat
X-WR-TIMEZONE:Europe/Madrid
DESCRIPTION:
URI:https://www.caldesdemontbui.cat/actualitat/agenda/inauguracio-de-lexposicio-catalunya-acaba-aqui-aqui-empieza-murcia-del-27-de-maig-al-17-de-juny.html
CLASS:PUBLIC
END:VEVENT
END:VCALENDAR
