BEGIN:VCALENDAR
VERSION:2.0
CALSCALE:GREGORIAN
PRODID:-//Diputació de Barcelona//DibaCMS//EN
BEGIN:VEVENT
UID:6478
DTSTAMP:20260424T132309
DTSTART:20120527T183000
DTEND:20120527T000000
SUMMARY:Xerrada - col·loqui "Viatge a la Utopia: Reclus nòmada" 
LOCATION:
METHOD:PUBLISH
X-WR-CALNAME:caldesm@caldesdemontbui.cat
X-WR-TIMEZONE:Europe/Madrid
DESCRIPTION:
URI:https://www.caldesdemontbui.cat/actualitat/agenda/xerrada---colloqui-viatge-a-la-utopia-reclus-nomada-.html
CLASS:PUBLIC
END:VEVENT
END:VCALENDAR
