BEGIN:VCALENDAR
VERSION:2.0
CALSCALE:GREGORIAN
PRODID:-//Diputació de Barcelona//DibaCMS//EN
BEGIN:VEVENT
UID:6477
DTSTAMP:20260424T131306
DTSTART:20120527T110000
DTEND:20120527T000000
SUMMARY:Classe solidària d'aikido 
LOCATION:
METHOD:PUBLISH
X-WR-CALNAME:caldesm@caldesdemontbui.cat
X-WR-TIMEZONE:Europe/Madrid
DESCRIPTION:
URI:https://www.caldesdemontbui.cat/actualitat/agenda/classe-solidaria-daikido-.html
CLASS:PUBLIC
END:VEVENT
END:VCALENDAR
