BEGIN:VCALENDAR
VERSION:2.0
CALSCALE:GREGORIAN
PRODID:-//Diputació de Barcelona//DibaCMS//EN
BEGIN:VEVENT
UID:6476
DTSTAMP:20260424T145037
DTSTART:20120527T103000
DTEND:20120527T000000
SUMMARY:II Cursa Bombers de Caldes de Montbui 
LOCATION:
METHOD:PUBLISH
X-WR-CALNAME:caldesm@caldesdemontbui.cat
X-WR-TIMEZONE:Europe/Madrid
DESCRIPTION:
URI:https://www.caldesdemontbui.cat/actualitat/agenda/ii-cursa-bombers-de-caldes-de-montbui-.html
CLASS:PUBLIC
END:VEVENT
END:VCALENDAR
