BEGIN:VCALENDAR
VERSION:2.0
CALSCALE:GREGORIAN
PRODID:-//Diputació de Barcelona//DibaCMS//EN
BEGIN:VEVENT
UID:6475
DTSTAMP:20260424T150320
DTSTART:20120527T000000
DTEND:20120527T000000
SUMMARY:8a Etapa del Camí de Sant Jaume entre Esquirol i Vic
LOCATION:
METHOD:PUBLISH
X-WR-CALNAME:caldesm@caldesdemontbui.cat
X-WR-TIMEZONE:Europe/Madrid
DESCRIPTION:
URI:https://www.caldesdemontbui.cat/actualitat/agenda/8a-etapa-del-cami-de-sant-jaume-entre-esquirol-i-vic.html
CLASS:PUBLIC
END:VEVENT
END:VCALENDAR
