BEGIN:VCALENDAR
VERSION:2.0
CALSCALE:GREGORIAN
PRODID:-//Diputació de Barcelona//DibaCMS//EN
BEGIN:VEVENT
UID:6474
DTSTAMP:20260424T145211
DTSTART:20120526T093000
DTEND:20120526T000000
SUMMARY:Taller d'educació emocional per a pares, mares i mestres "El món emocional dels més petits"
LOCATION:
METHOD:PUBLISH
X-WR-CALNAME:caldesm@caldesdemontbui.cat
X-WR-TIMEZONE:Europe/Madrid
DESCRIPTION:
URI:https://www.caldesdemontbui.cat/actualitat/agenda/taller-deducacio-emocional-per-a-pares-mares-i-mestres-el-mon-emocional-dels-mes-petits.html
CLASS:PUBLIC
END:VEVENT
END:VCALENDAR
