BEGIN:VCALENDAR
VERSION:2.0
CALSCALE:GREGORIAN
PRODID:-//Diputació de Barcelona//DibaCMS//EN
BEGIN:VEVENT
UID:6472
DTSTAMP:20260424T133417
DTSTART:20120525T190000
DTEND:20120525T000000
SUMMARY:Concert de piano de l'Escola de Música Joan Valls i recollida d'aliments
LOCATION:
METHOD:PUBLISH
X-WR-CALNAME:caldesm@caldesdemontbui.cat
X-WR-TIMEZONE:Europe/Madrid
DESCRIPTION:
URI:https://www.caldesdemontbui.cat/actualitat/agenda/concert-de-piano-de-lescola-de-msica-joan-valls-i-recollida-daliments.html
CLASS:PUBLIC
END:VEVENT
END:VCALENDAR
