BEGIN:VCALENDAR
VERSION:2.0
CALSCALE:GREGORIAN
PRODID:-//Diputació de Barcelona//DibaCMS//EN
BEGIN:VEVENT
UID:6471
DTSTAMP:20260424T133648
DTSTART:20120525T190000
DTEND:20120525T000000
SUMMARY:Concert de piano de l'Escola Municipal de Música Joan Valls: op.65 de Prokofiev
LOCATION:
METHOD:PUBLISH
X-WR-CALNAME:caldesm@caldesdemontbui.cat
X-WR-TIMEZONE:Europe/Madrid
DESCRIPTION:
URI:https://www.caldesdemontbui.cat/actualitat/agenda/concert-de-piano-de-lescola-municipal-de-msica-joan-valls-op65-de-prokofiev.html
CLASS:PUBLIC
END:VEVENT
END:VCALENDAR
