BEGIN:VCALENDAR
VERSION:2.0
CALSCALE:GREGORIAN
PRODID:-//Diputació de Barcelona//DibaCMS//EN
BEGIN:VEVENT
UID:6470
DTSTAMP:20260424T132608
DTSTART:20120525T180000
DTEND:20120525T000000
SUMMARY:Hora del conte: Iogurt de contes amb cireres, a càrrec de Mercè Rubí
LOCATION:
METHOD:PUBLISH
X-WR-CALNAME:caldesm@caldesdemontbui.cat
X-WR-TIMEZONE:Europe/Madrid
DESCRIPTION:
URI:https://www.caldesdemontbui.cat/actualitat/agenda/hora-del-conte-iogurt-de-contes-amb-cireres-a-carrec-de-merce-rubi.html
CLASS:PUBLIC
END:VEVENT
END:VCALENDAR
