BEGIN:VCALENDAR
VERSION:2.0
CALSCALE:GREGORIAN
PRODID:-//Diputació de Barcelona//DibaCMS//EN
BEGIN:VEVENT
UID:6468
DTSTAMP:20260424T133158
DTSTART:20120524T203000
DTEND:20120524T000000
SUMMARY:Concert per la pobresa: Orquestra Jove de l'Escola de Música, Joan Marc Miron i Àngels Rubio 
LOCATION:
METHOD:PUBLISH
X-WR-CALNAME:caldesm@caldesdemontbui.cat
X-WR-TIMEZONE:Europe/Madrid
DESCRIPTION:
URI:https://www.caldesdemontbui.cat/actualitat/agenda/concert-per-la-pobresa-orquestra-jove-de-lescola-de-msica-joan-marc-miron-i-angels-rubio-.html
CLASS:PUBLIC
END:VEVENT
END:VCALENDAR
