BEGIN:VCALENDAR
VERSION:2.0
CALSCALE:GREGORIAN
PRODID:-//Diputació de Barcelona//DibaCMS//EN
BEGIN:VEVENT
UID:6467
DTSTAMP:20260424T150213
DTSTART:20120524T200000
DTEND:20120524T000000
SUMMARY:Presentació del llibre Diwan for Forugh de José Manuel Villa Lobo a la Biblioteca de Caldes.
LOCATION:
METHOD:PUBLISH
X-WR-CALNAME:caldesm@caldesdemontbui.cat
X-WR-TIMEZONE:Europe/Madrid
DESCRIPTION:
URI:https://www.caldesdemontbui.cat/actualitat/agenda/presentacio-del-llibre-diwan-for-forugh-de-jose-manuel-villa-lobo-a-la-biblioteca-de-caldes.html
CLASS:PUBLIC
END:VEVENT
END:VCALENDAR
