BEGIN:VCALENDAR
VERSION:2.0
CALSCALE:GREGORIAN
PRODID:-//Diputació de Barcelona//DibaCMS//EN
BEGIN:VEVENT
UID:6466
DTSTAMP:20260424T131505
DTSTART:20120524T190000
DTEND:20120524T000000
SUMMARY:Presentació del projecte "Topos: la toponímia de Caldes de Montbui"
LOCATION:
METHOD:PUBLISH
X-WR-CALNAME:caldesm@caldesdemontbui.cat
X-WR-TIMEZONE:Europe/Madrid
DESCRIPTION:
URI:https://www.caldesdemontbui.cat/actualitat/agenda/presentacio-del-projecte-topos-la-toponimia-de-caldes-de-montbui.html
CLASS:PUBLIC
END:VEVENT
END:VCALENDAR
