BEGIN:VCALENDAR
VERSION:2.0
CALSCALE:GREGORIAN
PRODID:-//Diputació de Barcelona//DibaCMS//EN
BEGIN:VEVENT
UID:6464
DTSTAMP:20260424T013651
DTSTART:20120524T100000
DTEND:20120524T000000
SUMMARY:Campanya de recollida d'aliments: Dibuix d'aliments a Font i Boet
LOCATION:
METHOD:PUBLISH
X-WR-CALNAME:caldesm@caldesdemontbui.cat
X-WR-TIMEZONE:Europe/Madrid
DESCRIPTION:
URI:https://www.caldesdemontbui.cat/actualitat/agenda/campanya-de-recollida-daliments-dibuix-daliments-a-font-i-boet.html
CLASS:PUBLIC
END:VEVENT
END:VCALENDAR
