BEGIN:VCALENDAR
VERSION:2.0
CALSCALE:GREGORIAN
PRODID:-//Diputació de Barcelona//DibaCMS//EN
BEGIN:VEVENT
UID:6463
DTSTAMP:20260424T013105
DTSTART:20120523T160000
DTEND:20120523T000000
SUMMARY:Parlem de Ràdio, amb Míriam Viaplana
LOCATION:
METHOD:PUBLISH
X-WR-CALNAME:caldesm@caldesdemontbui.cat
X-WR-TIMEZONE:Europe/Madrid
DESCRIPTION:
URI:https://www.caldesdemontbui.cat/actualitat/agenda/parlem-de-radio-amb-miriam-viaplana.html
CLASS:PUBLIC
END:VEVENT
END:VCALENDAR
