BEGIN:VCALENDAR
VERSION:2.0
CALSCALE:GREGORIAN
PRODID:-//Diputació de Barcelona//DibaCMS//EN
BEGIN:VEVENT
UID:6460
DTSTAMP:20260423T235512
DTSTART:20120520T083000
DTEND:20120520T000000
SUMMARY:XIX Pedalada calderina
LOCATION:
METHOD:PUBLISH
X-WR-CALNAME:caldesm@caldesdemontbui.cat
X-WR-TIMEZONE:Europe/Madrid
DESCRIPTION:
URI:https://www.caldesdemontbui.cat/actualitat/agenda/xix-pedalada-calderina.html
CLASS:PUBLIC
END:VEVENT
END:VCALENDAR
