BEGIN:VCALENDAR
VERSION:2.0
CALSCALE:GREGORIAN
PRODID:-//Diputació de Barcelona//DibaCMS//EN
BEGIN:VEVENT
UID:6459
DTSTAMP:20260424T013031
DTSTART:20120520T000000
DTEND:20120520T000000
SUMMARY:Matinal pel Massís de Montserrat
LOCATION:
METHOD:PUBLISH
X-WR-CALNAME:caldesm@caldesdemontbui.cat
X-WR-TIMEZONE:Europe/Madrid
DESCRIPTION:
URI:https://www.caldesdemontbui.cat/actualitat/agenda/matinal-pel-massis-de-montserrat.html
CLASS:PUBLIC
END:VEVENT
END:VCALENDAR
