BEGIN:VCALENDAR
VERSION:2.0
CALSCALE:GREGORIAN
PRODID:-//Diputació de Barcelona//DibaCMS//EN
BEGIN:VEVENT
UID:6458
DTSTAMP:20260425T025417
DTSTART:20120519T110000
DTEND:20120519T000000
SUMMARY:Jornada de portes obertes per veure el procés d'elaboració de la cervesa termal "La Calderina"
LOCATION:
METHOD:PUBLISH
X-WR-CALNAME:caldesm@caldesdemontbui.cat
X-WR-TIMEZONE:Europe/Madrid
DESCRIPTION:
URI:https://www.caldesdemontbui.cat/actualitat/agenda/jornada-de-portes-obertes-per-veure-el-proces-delaboracio-de-la-cervesa-termal-la-calderina.html
CLASS:PUBLIC
END:VEVENT
END:VCALENDAR
