BEGIN:VCALENDAR
VERSION:2.0
CALSCALE:GREGORIAN
PRODID:-//Diputació de Barcelona//DibaCMS//EN
BEGIN:VEVENT
UID:6456
DTSTAMP:20260423T235558
DTSTART:20120519T000000
DTEND:20120519T000000
SUMMARY:Fotografies sobre la "Violència de gènere al Pakistan", d'Emilio Morenatti (Del 19 de maig a l'1 de juliol)
LOCATION:
METHOD:PUBLISH
X-WR-CALNAME:caldesm@caldesdemontbui.cat
X-WR-TIMEZONE:Europe/Madrid
DESCRIPTION:
URI:https://www.caldesdemontbui.cat/actualitat/agenda/fotografies-sobre-la-violencia-de-genere-al-pakistan-demilio-morenatti-del-19-de-maig-a-l1-de-juliol.html
CLASS:PUBLIC
END:VEVENT
END:VCALENDAR
