BEGIN:VCALENDAR
VERSION:2.0
CALSCALE:GREGORIAN
PRODID:-//Diputació de Barcelona//DibaCMS//EN
BEGIN:VEVENT
UID:6455
DTSTAMP:20260423T235354
DTSTART:20120518T193000
DTEND:20120518T000000
SUMMARY:Exposició fotogràfica de nus a la Sala Delger. Del 18 al 27 de maig
LOCATION:
METHOD:PUBLISH
X-WR-CALNAME:caldesm@caldesdemontbui.cat
X-WR-TIMEZONE:Europe/Madrid
DESCRIPTION:
URI:https://www.caldesdemontbui.cat/actualitat/agenda/exposicio-fotografica-de-nus-a-la-sala-delger-del-18-al-27-de-maig.html
CLASS:PUBLIC
END:VEVENT
END:VCALENDAR
