BEGIN:VCALENDAR
VERSION:2.0
CALSCALE:GREGORIAN
PRODID:-//Diputació de Barcelona//DibaCMS//EN
BEGIN:VEVENT
UID:6453
DTSTAMP:20260424T031346
DTSTART:20120518T000000
DTEND:20120531T000000
SUMMARY:Recapta d'aliments per al banc d'aliments de Caldes: del 18 al 31 de maig
LOCATION:
METHOD:PUBLISH
X-WR-CALNAME:caldesm@caldesdemontbui.cat
X-WR-TIMEZONE:Europe/Madrid
DESCRIPTION:
URI:https://www.caldesdemontbui.cat/actualitat/agenda/recapta-daliments-per-al-banc-daliments-de-caldes-del-18-al-31-de-maig.html
CLASS:PUBLIC
END:VEVENT
END:VCALENDAR
