BEGIN:VCALENDAR
VERSION:2.0
CALSCALE:GREGORIAN
PRODID:-//Diputació de Barcelona//DibaCMS//EN
BEGIN:VEVENT
UID:6451
DTSTAMP:20260425T033607
DTSTART:20120517T180000
DTEND:20120517T000000
SUMMARY:Contes en anglès a la Biblioteca de Caldes: STORY TIME: Mr Bear Can't Sleep
LOCATION:
METHOD:PUBLISH
X-WR-CALNAME:caldesm@caldesdemontbui.cat
X-WR-TIMEZONE:Europe/Madrid
DESCRIPTION:
URI:https://www.caldesdemontbui.cat/actualitat/agenda/contes-en-angles-a-la-biblioteca-de-caldes-story-time-mr-bear-cant-sleep.html
CLASS:PUBLIC
END:VEVENT
END:VCALENDAR
