BEGIN:VCALENDAR
VERSION:2.0
CALSCALE:GREGORIAN
PRODID:-//Diputació de Barcelona//DibaCMS//EN
BEGIN:VEVENT
UID:6450
DTSTAMP:20260423T235719
DTSTART:20120516T200000
DTEND:20120516T000000
SUMMARY:Fi de l'exposició del Concurs de punts de llibre de la Biblioteca
LOCATION:
METHOD:PUBLISH
X-WR-CALNAME:caldesm@caldesdemontbui.cat
X-WR-TIMEZONE:Europe/Madrid
DESCRIPTION:
URI:https://www.caldesdemontbui.cat/actualitat/agenda/fi-de-lexposicio-del-concurs-de-punts-de-llibre-de-la-biblioteca.html
CLASS:PUBLIC
END:VEVENT
END:VCALENDAR
