BEGIN:VCALENDAR
VERSION:2.0
CALSCALE:GREGORIAN
PRODID:-//Diputació de Barcelona//DibaCMS//EN
BEGIN:VEVENT
UID:6449
DTSTAMP:20260425T021611
DTSTART:20120516T160000
DTEND:20120516T000000
SUMMARY:Spa Mocions amb Rosa Fité
LOCATION:
METHOD:PUBLISH
X-WR-CALNAME:caldesm@caldesdemontbui.cat
X-WR-TIMEZONE:Europe/Madrid
DESCRIPTION:
URI:https://www.caldesdemontbui.cat/actualitat/agenda/spa-mocions-amb-rosa-fite.html
CLASS:PUBLIC
END:VEVENT
END:VCALENDAR
