BEGIN:VCALENDAR
VERSION:2.0
CALSCALE:GREGORIAN
PRODID:-//Diputació de Barcelona//DibaCMS//EN
BEGIN:VEVENT
UID:6447
DTSTAMP:20260424T220312
DTSTART:20120516T080000
DTEND:20120516T000000
SUMMARY:Caminada al Prat de Baix i les Elies
LOCATION:
METHOD:PUBLISH
X-WR-CALNAME:caldesm@caldesdemontbui.cat
X-WR-TIMEZONE:Europe/Madrid
DESCRIPTION:
URI:https://www.caldesdemontbui.cat/actualitat/agenda/caminada-al-prat-de-baix-i-les-elies.html
CLASS:PUBLIC
END:VEVENT
END:VCALENDAR
