BEGIN:VCALENDAR
VERSION:2.0
CALSCALE:GREGORIAN
PRODID:-//Diputació de Barcelona//DibaCMS//EN
BEGIN:VEVENT
UID:6442
DTSTAMP:20260424T232835
DTSTART:20120512T090000
DTEND:20120512T000000
SUMMARY:Sortida de botànica per la Serra del Farell
LOCATION:
METHOD:PUBLISH
X-WR-CALNAME:caldesm@caldesdemontbui.cat
X-WR-TIMEZONE:Europe/Madrid
DESCRIPTION:
URI:https://www.caldesdemontbui.cat/actualitat/agenda/sortida-de-botanica-per-la-serra-del-farell.html
CLASS:PUBLIC
END:VEVENT
END:VCALENDAR
