BEGIN:VCALENDAR
VERSION:2.0
CALSCALE:GREGORIAN
PRODID:-//Diputació de Barcelona//DibaCMS//EN
BEGIN:VEVENT
UID:6436
DTSTAMP:20260425T061858
DTSTART:20120509T173000
DTEND:20120509T000000
SUMMARY:Jornada de portes obertes a l'Institut Manolo Hugué. Xerrada informativa a les 17.30 h (Batxillerat i cicles formatius)
LOCATION:
METHOD:PUBLISH
X-WR-CALNAME:caldesm@caldesdemontbui.cat
X-WR-TIMEZONE:Europe/Madrid
DESCRIPTION:
URI:https://www.caldesdemontbui.cat/actualitat/agenda/jornada-de-portes-obertes-a-linstitut-manolo-hugue-xerrada-informativa-a-les-1730-h-batxillerat-i-cicles-formatius.html
CLASS:PUBLIC
END:VEVENT
END:VCALENDAR
