BEGIN:VCALENDAR
VERSION:2.0
CALSCALE:GREGORIAN
PRODID:-//Diputació de Barcelona//DibaCMS//EN
BEGIN:VEVENT
UID:6435
DTSTAMP:20260424T234105
DTSTART:20120509T160000
DTEND:20120509T000000
SUMMARY:Xerrada sobre la Llei de la dependència, amb Conxa Ferreri
LOCATION:
METHOD:PUBLISH
X-WR-CALNAME:caldesm@caldesdemontbui.cat
X-WR-TIMEZONE:Europe/Madrid
DESCRIPTION:
URI:https://www.caldesdemontbui.cat/actualitat/agenda/xerrada-sobre-la-llei-de-la-dependencia-amb-conxa-ferreri.html
CLASS:PUBLIC
END:VEVENT
END:VCALENDAR
