BEGIN:VCALENDAR
VERSION:2.0
CALSCALE:GREGORIAN
PRODID:-//Diputació de Barcelona//DibaCMS//EN
BEGIN:VEVENT
UID:6433
DTSTAMP:20260425T045953
DTSTART:20120507T163000
DTEND:20120507T000000
SUMMARY:Concert de la Coral Sanllehy
LOCATION:
METHOD:PUBLISH
X-WR-CALNAME:caldesm@caldesdemontbui.cat
X-WR-TIMEZONE:Europe/Madrid
DESCRIPTION:
URI:https://www.caldesdemontbui.cat/actualitat/agenda/concert-de-la-coral-sanllehy.html
CLASS:PUBLIC
END:VEVENT
END:VCALENDAR
