BEGIN:VCALENDAR
VERSION:2.0
CALSCALE:GREGORIAN
PRODID:-//Diputació de Barcelona//DibaCMS//EN
BEGIN:VEVENT
UID:6432
DTSTAMP:20260425T061919
DTSTART:20120506T130000
DTEND:20120506T000000
SUMMARY:III Ral·li de cotxes antics Sagalés Barcelona - Caldes de Montbui: arribada a Caldes
LOCATION:
METHOD:PUBLISH
X-WR-CALNAME:caldesm@caldesdemontbui.cat
X-WR-TIMEZONE:Europe/Madrid
DESCRIPTION:
URI:https://www.caldesdemontbui.cat/actualitat/agenda/iii-ralli-de-cotxes-antics-sagales-barcelona---caldes-de-montbui-arribada-a-caldes.html
CLASS:PUBLIC
END:VEVENT
END:VCALENDAR
